BEGIN:VCALENDAR
PRODID:-//github.com/rianjs/ical.net//NONSGML ical.net 4.0//EN
VERSION:2.0
BEGIN:VTIMEZONE
TZID:Pacific Standard Time
X-LIC-LOCATION:America/Los_Angeles
BEGIN:STANDARD
DTSTART:20241103T020000
RRULE:FREQ=YEARLY;BYDAY=1SU;BYMONTH=11
TZNAME:PST
TZOFFSETFROM:-0700
TZOFFSETTO:-0800
END:STANDARD
BEGIN:DAYLIGHT
DTSTART:20250309T020000
RRULE:FREQ=YEARLY;BYDAY=2SU;BYMONTH=3
TZNAME:PDT
TZOFFSETFROM:-0800
TZOFFSETTO:-0700
END:DAYLIGHT
END:VTIMEZONE
BEGIN:VEVENT
DESCRIPTION:2025 Annual Meeting by the American Academy of Neurology\n\nTi
 tle: Cognitive\, Behavioral\, and Disease-modifying Therapeutics in Demen
 tia\n\nAccess URL: https://www.aan.com/MSA/Public/Events/GetEventURL/1792
 0\n\nLearn More About This Event: https://www.aan.com/MSA/Public/Events/D
 etails/17920
DTEND;TZID=Pacific Standard Time:20250405T090000
DTSTAMP:20260421T084257Z
DTSTART;TZID=Pacific Standard Time:20250405T070000
LOCATION:https://www.aan.com/MSA/Public/Events/GetEventURL/17920
SEQUENCE:0
SUMMARY:AAN: Cognitive\, Behavioral\, and Disease-modifying Therapeutics i
 n Dementia
UID:2fad550e-3d98-4204-a171-2a7bd1d52dc7
END:VEVENT
END:VCALENDAR
