BEGIN:VCALENDAR
PRODID:-//github.com/rianjs/ical.net//NONSGML ical.net 4.0//EN
VERSION:2.0
BEGIN:VTIMEZONE
TZID:Pacific Standard Time
X-LIC-LOCATION:America/Los_Angeles
BEGIN:STANDARD
DTSTART:20241103T020000
RRULE:FREQ=YEARLY;BYDAY=1SU;BYMONTH=11
TZNAME:PST
TZOFFSETFROM:-0700
TZOFFSETTO:-0800
END:STANDARD
BEGIN:DAYLIGHT
DTSTART:20250309T020000
RRULE:FREQ=YEARLY;BYDAY=2SU;BYMONTH=3
TZNAME:PDT
TZOFFSETFROM:-0800
TZOFFSETTO:-0700
END:DAYLIGHT
END:VTIMEZONE
BEGIN:VEVENT
DESCRIPTION:2025 Annual Meeting by the American Academy of Neurology\n\nTi
 tle: Neuromuscular Junction Disorders: Myasthenia Gravis\, Ocular\, and M
 uSK Myasthenia\n\nAccess URL: https://www.aan.com/MSA/Public/Events/GetEv
 entURL/17924\n\nLearn More About This Event: https://www.aan.com/MSA/Publ
 ic/Events/Details/17924
DTEND;TZID=Pacific Standard Time:20250405T090000
DTSTAMP:20260421T082805Z
DTSTART;TZID=Pacific Standard Time:20250405T070000
LOCATION:https://www.aan.com/MSA/Public/Events/GetEventURL/17924
SEQUENCE:0
SUMMARY:AAN: Neuromuscular Junction Disorders: Myasthenia Gravis\, Ocular\
 , and MuSK Myasthenia
UID:9ce9ba66-336f-4fa0-af9b-e1fcef2de0fe
END:VEVENT
END:VCALENDAR
