BEGIN:VCALENDAR
PRODID:-//github.com/rianjs/ical.net//NONSGML ical.net 4.0//EN
VERSION:2.0
BEGIN:VTIMEZONE
TZID:Pacific Standard Time
X-LIC-LOCATION:America/Los_Angeles
BEGIN:STANDARD
DTSTART:20241103T020000
RRULE:FREQ=YEARLY;BYDAY=1SU;BYMONTH=11
TZNAME:PST
TZOFFSETFROM:-0700
TZOFFSETTO:-0800
END:STANDARD
BEGIN:DAYLIGHT
DTSTART:20250309T020000
RRULE:FREQ=YEARLY;BYDAY=2SU;BYMONTH=3
TZNAME:PDT
TZOFFSETFROM:-0800
TZOFFSETTO:-0700
END:DAYLIGHT
END:VTIMEZONE
BEGIN:VEVENT
DESCRIPTION:2025 Annual Meeting by the American Academy of Neurology\n\nTi
 tle: Essentials of Acute Treatment and Prevention of Ischemic Stroke\n\nA
 ccess URL: https://www.aan.com/MSA/Public/Events/GetEventURL/17926\n\nLea
 rn More About This Event: https://www.aan.com/MSA/Public/Events/Details/1
 7926
DTEND;TZID=Pacific Standard Time:20250409T150000
DTSTAMP:20260421T081412Z
DTSTART;TZID=Pacific Standard Time:20250409T130000
LOCATION:https://www.aan.com/MSA/Public/Events/GetEventURL/17926
SEQUENCE:0
SUMMARY:AAN: Essentials of Acute Treatment and Prevention of Ischemic Stro
 ke
UID:b79411c6-fb5e-4234-996b-00125558a2d7
END:VEVENT
END:VCALENDAR
