BEGIN:VCALENDAR
PRODID:-//github.com/rianjs/ical.net//NONSGML ical.net 4.0//EN
VERSION:2.0
BEGIN:VTIMEZONE
TZID:Pacific Standard Time
X-LIC-LOCATION:America/Los_Angeles
BEGIN:STANDARD
DTSTART:20241103T020000
RRULE:FREQ=YEARLY;BYDAY=1SU;BYMONTH=11
TZNAME:PST
TZOFFSETFROM:-0700
TZOFFSETTO:-0800
END:STANDARD
BEGIN:DAYLIGHT
DTSTART:20250309T020000
RRULE:FREQ=YEARLY;BYDAY=2SU;BYMONTH=3
TZNAME:PDT
TZOFFSETFROM:-0800
TZOFFSETTO:-0700
END:DAYLIGHT
END:VTIMEZONE
BEGIN:VEVENT
DESCRIPTION:2025 Annual Meeting by the American Academy of Neurology\n\nTi
 tle: Clinical Pearls: Learning from Complex Cases Simple Lessons that App
 ly to Everyday Problems\n\nAccess URL: https://www.aan.com/MSA/Public/Eve
 nts/GetEventURL/17927\n\nLearn More About This Event: https://www.aan.com
 /MSA/Public/Events/Details/17927
DTEND;TZID=Pacific Standard Time:20250409T090000
DTSTAMP:20260421T081413Z
DTSTART;TZID=Pacific Standard Time:20250409T070000
LOCATION:https://www.aan.com/MSA/Public/Events/GetEventURL/17927
SEQUENCE:0
SUMMARY:AAN: Clinical Pearls: Learning from Complex Cases Simple Lessons t
 hat Apply to Everyday Problems
UID:31ad1e1d-a8ff-4452-9e54-5c77e7d3a012
END:VEVENT
END:VCALENDAR
