BEGIN:VCALENDAR
PRODID:-//github.com/rianjs/ical.net//NONSGML ical.net 4.0//EN
VERSION:2.0
BEGIN:VTIMEZONE
TZID:Pacific Standard Time
X-LIC-LOCATION:America/Los_Angeles
BEGIN:STANDARD
DTSTART:20241103T020000
RRULE:FREQ=YEARLY;BYDAY=1SU;BYMONTH=11
TZNAME:PST
TZOFFSETFROM:-0700
TZOFFSETTO:-0800
END:STANDARD
BEGIN:DAYLIGHT
DTSTART:20250309T020000
RRULE:FREQ=YEARLY;BYDAY=2SU;BYMONTH=3
TZNAME:PDT
TZOFFSETFROM:-0800
TZOFFSETTO:-0700
END:DAYLIGHT
END:VTIMEZONE
BEGIN:VEVENT
DESCRIPTION:2025 Annual Meeting by the American Academy of Neurology\n\nTi
 tle: Neurology Education: Clerkship and Program Directors Conference: Coa
 ching in Neurology Medical Education\n\nAccess URL: https://www.aan.com/M
 SA/Public/Events/GetEventURL/17929\n\nLearn More About This Event: https:
 //www.aan.com/MSA/Public/Events/Details/17929
DTEND;TZID=Pacific Standard Time:20250405T113000
DTSTAMP:20260421T082632Z
DTSTART;TZID=Pacific Standard Time:20250405T070000
LOCATION:https://www.aan.com/MSA/Public/Events/GetEventURL/17929
SEQUENCE:0
SUMMARY:AAN: Neurology Education: Clerkship and Program Directors Conferen
 ce: Coaching in Neurology Medical Education
UID:4797dcfe-0e62-4d4a-8aff-21a7054ca1c8
END:VEVENT
END:VCALENDAR
