BEGIN:VCALENDAR
PRODID:-//github.com/rianjs/ical.net//NONSGML ical.net 4.0//EN
VERSION:2.0
BEGIN:VTIMEZONE
TZID:Pacific Standard Time
X-LIC-LOCATION:America/Los_Angeles
BEGIN:STANDARD
DTSTART:20241103T020000
RRULE:FREQ=YEARLY;BYDAY=1SU;BYMONTH=11
TZNAME:PST
TZOFFSETFROM:-0700
TZOFFSETTO:-0800
END:STANDARD
BEGIN:DAYLIGHT
DTSTART:20250309T020000
RRULE:FREQ=YEARLY;BYDAY=2SU;BYMONTH=3
TZNAME:PDT
TZOFFSETFROM:-0800
TZOFFSETTO:-0700
END:DAYLIGHT
END:VTIMEZONE
BEGIN:VEVENT
DESCRIPTION:2025 Annual Meeting by the American Academy of Neurology\n\nTi
 tle: Neurological Complications of Checkpoint Inhibitors\n\nAccess URL: h
 ttps://www.aan.com/MSA/Public/Events/GetEventURL/17940\n\nLearn More Abou
 t This Event: https://www.aan.com/MSA/Public/Events/Details/17940
DTEND;TZID=Pacific Standard Time:20250405T140000
DTSTAMP:20260421T082754Z
DTSTART;TZID=Pacific Standard Time:20250405T120000
LOCATION:https://www.aan.com/MSA/Public/Events/GetEventURL/17940
SEQUENCE:0
SUMMARY:AAN: Neurological Complications of Checkpoint Inhibitors
UID:f0be26a9-a82d-40f2-90f9-81064e5e712a
END:VEVENT
END:VCALENDAR
