BEGIN:VCALENDAR
PRODID:-//github.com/rianjs/ical.net//NONSGML ical.net 4.0//EN
VERSION:2.0
BEGIN:VTIMEZONE
TZID:Pacific Standard Time
X-LIC-LOCATION:America/Los_Angeles
BEGIN:STANDARD
DTSTART:20241103T020000
RRULE:FREQ=YEARLY;BYDAY=1SU;BYMONTH=11
TZNAME:PST
TZOFFSETFROM:-0700
TZOFFSETTO:-0800
END:STANDARD
BEGIN:DAYLIGHT
DTSTART:20250309T020000
RRULE:FREQ=YEARLY;BYDAY=2SU;BYMONTH=3
TZNAME:PDT
TZOFFSETFROM:-0800
TZOFFSETTO:-0700
END:DAYLIGHT
END:VTIMEZONE
BEGIN:VEVENT
DESCRIPTION:2025 Annual Meeting by the American Academy of Neurology\n\nTi
 tle: Basic Science: Neuropharmacology\n\nAccess URL: https://www.aan.com/
 MSA/Public/Events/GetEventURL/17942\n\nLearn More About This Event: https
 ://www.aan.com/MSA/Public/Events/Details/17942
DTEND;TZID=Pacific Standard Time:20250405T163000
DTSTAMP:20260419T124417Z
DTSTART;TZID=Pacific Standard Time:20250405T120000
LOCATION:https://www.aan.com/MSA/Public/Events/GetEventURL/17942
SEQUENCE:0
SUMMARY:AAN: Basic Science: Neuropharmacology
UID:01c95fe7-90b4-4e32-b2d8-38525ce2001d
END:VEVENT
END:VCALENDAR
