BEGIN:VCALENDAR
PRODID:-//github.com/rianjs/ical.net//NONSGML ical.net 4.0//EN
VERSION:2.0
BEGIN:VTIMEZONE
TZID:Pacific Standard Time
X-LIC-LOCATION:America/Los_Angeles
BEGIN:STANDARD
DTSTART:20241103T020000
RRULE:FREQ=YEARLY;BYDAY=1SU;BYMONTH=11
TZNAME:PST
TZOFFSETFROM:-0700
TZOFFSETTO:-0800
END:STANDARD
BEGIN:DAYLIGHT
DTSTART:20250309T020000
RRULE:FREQ=YEARLY;BYDAY=2SU;BYMONTH=3
TZNAME:PDT
TZOFFSETFROM:-0800
TZOFFSETTO:-0700
END:DAYLIGHT
END:VTIMEZONE
BEGIN:VEVENT
DESCRIPTION:2025 Annual Meeting by the American Academy of Neurology\n\nTi
 tle: Skills Workshop: Interventional Headache Management: Botulinum Toxin
 \, Nerve Blocks\, and Trigger Point Injections\n\nAccess URL: https://www
 .aan.com/MSA/Public/Events/GetEventURL/17943\n\nLearn More About This Eve
 nt: https://www.aan.com/MSA/Public/Events/Details/17943
DTEND;TZID=Pacific Standard Time:20250405T163000
DTSTAMP:20260421T082448Z
DTSTART;TZID=Pacific Standard Time:20250405T120000
LOCATION:https://www.aan.com/MSA/Public/Events/GetEventURL/17943
SEQUENCE:0
SUMMARY:AAN: Skills Workshop: Interventional Headache Management: Botulinu
 m Toxin\, Nerve Blocks\, and Trigger Point Injections
UID:60a87a34-c52c-4276-b26f-fc67362bb29b
END:VEVENT
END:VCALENDAR
