BEGIN:VCALENDAR
PRODID:-//github.com/rianjs/ical.net//NONSGML ical.net 4.0//EN
VERSION:2.0
BEGIN:VTIMEZONE
TZID:Pacific Standard Time
X-LIC-LOCATION:America/Los_Angeles
BEGIN:STANDARD
DTSTART:20241103T020000
RRULE:FREQ=YEARLY;BYDAY=1SU;BYMONTH=11
TZNAME:PST
TZOFFSETFROM:-0700
TZOFFSETTO:-0800
END:STANDARD
BEGIN:DAYLIGHT
DTSTART:20250309T020000
RRULE:FREQ=YEARLY;BYDAY=2SU;BYMONTH=3
TZNAME:PDT
TZOFFSETFROM:-0800
TZOFFSETTO:-0700
END:DAYLIGHT
END:VTIMEZONE
BEGIN:VEVENT
DESCRIPTION:2025 Annual Meeting by the American Academy of Neurology\n\nTi
 tle: MS Across the Lifespan/Pregnancy and Breastfeeding in MS\n\nAccess U
 RL: https://www.aan.com/MSA/Public/Events/GetEventURL/17945\n\nLearn More
  About This Event: https://www.aan.com/MSA/Public/Events/Details/17945
DTEND;TZID=Pacific Standard Time:20250405T163000
DTSTAMP:20260421T081337Z
DTSTART;TZID=Pacific Standard Time:20250405T143000
LOCATION:https://www.aan.com/MSA/Public/Events/GetEventURL/17945
SEQUENCE:0
SUMMARY:AAN: MS Across the Lifespan/Pregnancy and Breastfeeding in MS
UID:025225b1-3716-4159-8166-91d8db439ebd
END:VEVENT
END:VCALENDAR
