BEGIN:VCALENDAR
PRODID:-//github.com/rianjs/ical.net//NONSGML ical.net 4.0//EN
VERSION:2.0
BEGIN:VTIMEZONE
TZID:Pacific Standard Time
X-LIC-LOCATION:America/Los_Angeles
BEGIN:STANDARD
DTSTART:20241103T020000
RRULE:FREQ=YEARLY;BYDAY=1SU;BYMONTH=11
TZNAME:PST
TZOFFSETFROM:-0700
TZOFFSETTO:-0800
END:STANDARD
BEGIN:DAYLIGHT
DTSTART:20250309T020000
RRULE:FREQ=YEARLY;BYDAY=2SU;BYMONTH=3
TZNAME:PDT
TZOFFSETFROM:-0800
TZOFFSETTO:-0700
END:DAYLIGHT
END:VTIMEZONE
BEGIN:VEVENT
DESCRIPTION:2025 Annual Meeting by the American Academy of Neurology\n\nTi
 tle: EEG: Focal\, Diffuse\, and Epileptiform Abnormalities in Adults\n\nA
 ccess URL: https://www.aan.com/MSA/Public/Events/GetEventURL/17946\n\nLea
 rn More About This Event: https://www.aan.com/MSA/Public/Events/Details/1
 7946
DTEND;TZID=Pacific Standard Time:20250405T163000
DTSTAMP:20260419T125427Z
DTSTART;TZID=Pacific Standard Time:20250405T143000
LOCATION:https://www.aan.com/MSA/Public/Events/GetEventURL/17946
SEQUENCE:0
SUMMARY:AAN: EEG: Focal\, Diffuse\, and Epileptiform Abnormalities in Adul
 ts
UID:d7ada7e4-2207-481d-a9e2-00cd5bd9e780
END:VEVENT
END:VCALENDAR
