BEGIN:VCALENDAR
PRODID:-//github.com/rianjs/ical.net//NONSGML ical.net 4.0//EN
VERSION:2.0
BEGIN:VTIMEZONE
TZID:Pacific Standard Time
X-LIC-LOCATION:America/Los_Angeles
BEGIN:STANDARD
DTSTART:20241103T020000
RRULE:FREQ=YEARLY;BYDAY=1SU;BYMONTH=11
TZNAME:PST
TZOFFSETFROM:-0700
TZOFFSETTO:-0800
END:STANDARD
BEGIN:DAYLIGHT
DTSTART:20250309T020000
RRULE:FREQ=YEARLY;BYDAY=2SU;BYMONTH=3
TZNAME:PDT
TZOFFSETFROM:-0800
TZOFFSETTO:-0700
END:DAYLIGHT
END:VTIMEZONE
BEGIN:VEVENT
DESCRIPTION:2025 Annual Meeting by the American Academy of Neurology\n\nTi
 tle: Harnessing Artificial Intelligence to Enhance Clinical Practice and 
 Neurology's Future\n\nAccess URL: https://www.aan.com/MSA/Public/Events/G
 etEventURL/17947\n\nLearn More About This Event: https://www.aan.com/MSA/
 Public/Events/Details/17947
DTEND;TZID=Pacific Standard Time:20250405T163000
DTSTAMP:20260421T081319Z
DTSTART;TZID=Pacific Standard Time:20250405T143000
LOCATION:https://www.aan.com/MSA/Public/Events/GetEventURL/17947
SEQUENCE:0
SUMMARY:AAN: Harnessing Artificial Intelligence to Enhance Clinical Practi
 ce and Neurology's Future
UID:48401fe8-3dc1-41ac-9d81-9a7f192939e8
END:VEVENT
END:VCALENDAR
