BEGIN:VCALENDAR
PRODID:-//github.com/rianjs/ical.net//NONSGML ical.net 4.0//EN
VERSION:2.0
BEGIN:VTIMEZONE
TZID:Pacific Standard Time
X-LIC-LOCATION:America/Los_Angeles
BEGIN:STANDARD
DTSTART:20241103T020000
RRULE:FREQ=YEARLY;BYDAY=1SU;BYMONTH=11
TZNAME:PST
TZOFFSETFROM:-0700
TZOFFSETTO:-0800
END:STANDARD
BEGIN:DAYLIGHT
DTSTART:20250309T020000
RRULE:FREQ=YEARLY;BYDAY=2SU;BYMONTH=3
TZNAME:PDT
TZOFFSETFROM:-0800
TZOFFSETTO:-0700
END:DAYLIGHT
END:VTIMEZONE
BEGIN:VEVENT
DESCRIPTION:2025 Annual Meeting by the American Academy of Neurology\n\nTi
 tle: Case Studies: Diagnosis and Management of Unusual Cases in Neuromusc
 ular Disease\n\nAccess URL: https://www.aan.com/MSA/Public/Events/GetEven
 tURL/17955\n\nLearn More About This Event: https://www.aan.com/MSA/Public
 /Events/Details/17955
DTEND;TZID=Pacific Standard Time:20250405T190000
DTSTAMP:20260421T081152Z
DTSTART;TZID=Pacific Standard Time:20250405T170000
LOCATION:https://www.aan.com/MSA/Public/Events/GetEventURL/17955
SEQUENCE:0
SUMMARY:AAN: Case Studies: Diagnosis and Management of Unusual Cases in Ne
 uromuscular Disease
UID:7ddc1457-401b-4fc3-bcef-763bef70b6a3
END:VEVENT
END:VCALENDAR
