BEGIN:VCALENDAR
PRODID:-//github.com/rianjs/ical.net//NONSGML ical.net 4.0//EN
VERSION:2.0
BEGIN:VTIMEZONE
TZID:Pacific Standard Time
X-LIC-LOCATION:America/Los_Angeles
BEGIN:STANDARD
DTSTART:20241103T020000
RRULE:FREQ=YEARLY;BYDAY=1SU;BYMONTH=11
TZNAME:PST
TZOFFSETFROM:-0700
TZOFFSETTO:-0800
END:STANDARD
BEGIN:DAYLIGHT
DTSTART:20250309T020000
RRULE:FREQ=YEARLY;BYDAY=2SU;BYMONTH=3
TZNAME:PDT
TZOFFSETFROM:-0800
TZOFFSETTO:-0700
END:DAYLIGHT
END:VTIMEZONE
BEGIN:VEVENT
DESCRIPTION:2025 Annual Meeting by the American Academy of Neurology\n\nTi
 tle: Comprehensive Migraine Update: Advances in Acute\, Preventive\, and 
 Cognitive Behavioral Therapies\n\nAccess URL: https://www.aan.com/MSA/Pub
 lic/Events/GetEventURL/17958\n\nLearn More About This Event: https://www.
 aan.com/MSA/Public/Events/Details/17958
DTEND;TZID=Pacific Standard Time:20250406T090000
DTSTAMP:20260421T084439Z
DTSTART;TZID=Pacific Standard Time:20250406T070000
LOCATION:https://www.aan.com/MSA/Public/Events/GetEventURL/17958
SEQUENCE:0
SUMMARY:AAN: Comprehensive Migraine Update: Advances in Acute\, Preventive
 \, and Cognitive Behavioral Therapies
UID:8f402ce0-2873-4972-826c-5a4ed3deab29
END:VEVENT
END:VCALENDAR
