BEGIN:VCALENDAR
PRODID:-//github.com/rianjs/ical.net//NONSGML ical.net 4.0//EN
VERSION:2.0
BEGIN:VTIMEZONE
TZID:Pacific Standard Time
X-LIC-LOCATION:America/Los_Angeles
BEGIN:STANDARD
DTSTART:20241103T020000
RRULE:FREQ=YEARLY;BYDAY=1SU;BYMONTH=11
TZNAME:PST
TZOFFSETFROM:-0700
TZOFFSETTO:-0800
END:STANDARD
BEGIN:DAYLIGHT
DTSTART:20250309T020000
RRULE:FREQ=YEARLY;BYDAY=2SU;BYMONTH=3
TZNAME:PDT
TZOFFSETFROM:-0800
TZOFFSETTO:-0700
END:DAYLIGHT
END:VTIMEZONE
BEGIN:VEVENT
DESCRIPTION:2025 Annual Meeting by the American Academy of Neurology\n\nTi
 tle: Drugs and Toxin-induced Neurological Emergencies/CNS Toxicities\n\nA
 ccess URL: https://www.aan.com/MSA/Public/Events/GetEventURL/17964\n\nLea
 rn More About This Event: https://www.aan.com/MSA/Public/Events/Details/1
 7964
DTEND;TZID=Pacific Standard Time:20250406T090000
DTSTAMP:20260421T081250Z
DTSTART;TZID=Pacific Standard Time:20250406T070000
LOCATION:https://www.aan.com/MSA/Public/Events/GetEventURL/17964
SEQUENCE:0
SUMMARY:AAN: Drugs and Toxin-induced Neurological Emergencies/CNS Toxiciti
 es
UID:6fb59141-d5f3-4c4a-94e6-eb4cd8f954e2
END:VEVENT
END:VCALENDAR
