BEGIN:VCALENDAR
PRODID:-//github.com/rianjs/ical.net//NONSGML ical.net 4.0//EN
VERSION:2.0
BEGIN:VTIMEZONE
TZID:Pacific Standard Time
X-LIC-LOCATION:America/Los_Angeles
BEGIN:STANDARD
DTSTART:20241103T020000
RRULE:FREQ=YEARLY;BYDAY=1SU;BYMONTH=11
TZNAME:PST
TZOFFSETFROM:-0700
TZOFFSETTO:-0800
END:STANDARD
BEGIN:DAYLIGHT
DTSTART:20250309T020000
RRULE:FREQ=YEARLY;BYDAY=2SU;BYMONTH=3
TZNAME:PDT
TZOFFSETFROM:-0800
TZOFFSETTO:-0700
END:DAYLIGHT
END:VTIMEZONE
BEGIN:VEVENT
DESCRIPTION:2025 Annual Meeting by the American Academy of Neurology\n\nTi
 tle: Sleep-disordered Breathing and Neurological Disease: A Case-based Ap
 proach\n\nAccess URL: https://www.aan.com/MSA/Public/Events/GetEventURL/1
 7968\n\nLearn More About This Event: https://www.aan.com/MSA/Public/Event
 s/Details/17968
DTEND;TZID=Pacific Standard Time:20250406T150000
DTSTAMP:20260421T081320Z
DTSTART;TZID=Pacific Standard Time:20250406T130000
LOCATION:https://www.aan.com/MSA/Public/Events/GetEventURL/17968
SEQUENCE:0
SUMMARY:AAN: Sleep-disordered Breathing and Neurological Disease: A Case-b
 ased Approach
UID:8b1a460f-edd3-4333-9bae-8fc5f6d419ef
END:VEVENT
END:VCALENDAR
