BEGIN:VCALENDAR
PRODID:-//github.com/rianjs/ical.net//NONSGML ical.net 4.0//EN
VERSION:2.0
BEGIN:VTIMEZONE
TZID:Pacific Standard Time
X-LIC-LOCATION:America/Los_Angeles
BEGIN:STANDARD
DTSTART:20241103T020000
RRULE:FREQ=YEARLY;BYDAY=1SU;BYMONTH=11
TZNAME:PST
TZOFFSETFROM:-0700
TZOFFSETTO:-0800
END:STANDARD
BEGIN:DAYLIGHT
DTSTART:20250309T020000
RRULE:FREQ=YEARLY;BYDAY=2SU;BYMONTH=3
TZNAME:PDT
TZOFFSETFROM:-0800
TZOFFSETTO:-0700
END:DAYLIGHT
END:VTIMEZONE
BEGIN:VEVENT
DESCRIPTION:2025 Annual Meeting by the American Academy of Neurology\n\nTi
 tle: Stiff Person Syndrome Spectrum Disorder and Other Autoimmune Movemen
 t Disorders\n\nAccess URL: https://www.aan.com/MSA/Public/Events/GetEvent
 URL/17970\n\nLearn More About This Event: https://www.aan.com/MSA/Public/
 Events/Details/17970
DTEND;TZID=Pacific Standard Time:20250406T150000
DTSTAMP:20260421T082805Z
DTSTART;TZID=Pacific Standard Time:20250406T130000
LOCATION:https://www.aan.com/MSA/Public/Events/GetEventURL/17970
SEQUENCE:0
SUMMARY:AAN: Stiff Person Syndrome Spectrum Disorder and Other Autoimmune 
 Movement Disorders
UID:5ef5481b-57c0-476b-bca5-1b84503b0d2f
END:VEVENT
END:VCALENDAR
