BEGIN:VCALENDAR
PRODID:-//github.com/rianjs/ical.net//NONSGML ical.net 4.0//EN
VERSION:2.0
BEGIN:VTIMEZONE
TZID:Pacific Standard Time
X-LIC-LOCATION:America/Los_Angeles
BEGIN:STANDARD
DTSTART:20241103T020000
RRULE:FREQ=YEARLY;BYDAY=1SU;BYMONTH=11
TZNAME:PST
TZOFFSETFROM:-0700
TZOFFSETTO:-0800
END:STANDARD
BEGIN:DAYLIGHT
DTSTART:20250309T020000
RRULE:FREQ=YEARLY;BYDAY=2SU;BYMONTH=3
TZNAME:PDT
TZOFFSETFROM:-0800
TZOFFSETTO:-0700
END:DAYLIGHT
END:VTIMEZONE
BEGIN:VEVENT
DESCRIPTION:2025 Annual Meeting by the American Academy of Neurology\n\nTi
 tle: The New Era of Brain Health Across the Lifespan: How Science and Pub
 lic Policy Can Improve Neurological Outcomes for All\n\nAccess URL: https
 ://www.aan.com/MSA/Public/Events/GetEventURL/17978\n\nLearn More About Th
 is Event: https://www.aan.com/MSA/Public/Events/Details/17978
DTEND;TZID=Pacific Standard Time:20250406T150000
DTSTAMP:20260421T081413Z
DTSTART;TZID=Pacific Standard Time:20250406T130000
LOCATION:https://www.aan.com/MSA/Public/Events/GetEventURL/17978
SEQUENCE:0
SUMMARY:AAN: The New Era of Brain Health Across the Lifespan: How Science 
 and Public Policy Can Improve Neurological Outcomes for All
UID:7a2ccc35-2bee-4a77-a209-b992f85a47a2
END:VEVENT
END:VCALENDAR
