BEGIN:VCALENDAR
PRODID:-//github.com/rianjs/ical.net//NONSGML ical.net 4.0//EN
VERSION:2.0
BEGIN:VTIMEZONE
TZID:Pacific Standard Time
X-LIC-LOCATION:America/Los_Angeles
BEGIN:STANDARD
DTSTART:20241103T020000
RRULE:FREQ=YEARLY;BYDAY=1SU;BYMONTH=11
TZNAME:PST
TZOFFSETFROM:-0700
TZOFFSETTO:-0800
END:STANDARD
BEGIN:DAYLIGHT
DTSTART:20250309T020000
RRULE:FREQ=YEARLY;BYDAY=2SU;BYMONTH=3
TZNAME:PDT
TZOFFSETFROM:-0800
TZOFFSETTO:-0700
END:DAYLIGHT
END:VTIMEZONE
BEGIN:VEVENT
DESCRIPTION:2025 Annual Meeting by the American Academy of Neurology\n\nTi
 tle: Skills Workshop: Deep Brain Stimulation for Movement Disorders: Basi
 c\n\nAccess URL: https://www.aan.com/MSA/Public/Events/GetEventURL/17980\
 n\nLearn More About This Event: https://www.aan.com/MSA/Public/Events/Det
 ails/17980
DTEND;TZID=Pacific Standard Time:20250406T173000
DTSTAMP:20260421T082731Z
DTSTART;TZID=Pacific Standard Time:20250406T130000
LOCATION:https://www.aan.com/MSA/Public/Events/GetEventURL/17980
SEQUENCE:0
SUMMARY:AAN: Skills Workshop: Deep Brain Stimulation for Movement Disorder
 s: Basic
UID:62c7c8cf-884c-46a0-a983-89c6f7c2ebcc
END:VEVENT
END:VCALENDAR
