BEGIN:VCALENDAR
PRODID:-//github.com/rianjs/ical.net//NONSGML ical.net 4.0//EN
VERSION:2.0
BEGIN:VTIMEZONE
TZID:Pacific Standard Time
X-LIC-LOCATION:America/Los_Angeles
BEGIN:STANDARD
DTSTART:20241103T020000
RRULE:FREQ=YEARLY;BYDAY=1SU;BYMONTH=11
TZNAME:PST
TZOFFSETFROM:-0700
TZOFFSETTO:-0800
END:STANDARD
BEGIN:DAYLIGHT
DTSTART:20250309T020000
RRULE:FREQ=YEARLY;BYDAY=2SU;BYMONTH=3
TZNAME:PDT
TZOFFSETFROM:-0800
TZOFFSETTO:-0700
END:DAYLIGHT
END:VTIMEZONE
BEGIN:VEVENT
DESCRIPTION:2025 Annual Meeting by the American Academy of Neurology\n\nTi
 tle: Low and High Pressure Headache: Clinical Presentation and Approach t
 o Evaluation and Management\n\nAccess URL: https://www.aan.com/MSA/Public
 /Events/GetEventURL/17984\n\nLearn More About This Event: https://www.aan
 .com/MSA/Public/Events/Details/17984
DTEND;TZID=Pacific Standard Time:20250406T173000
DTSTAMP:20260421T081451Z
DTSTART;TZID=Pacific Standard Time:20250406T153000
LOCATION:https://www.aan.com/MSA/Public/Events/GetEventURL/17984
SEQUENCE:0
SUMMARY:AAN: Low and High Pressure Headache: Clinical Presentation and App
 roach to Evaluation and Management
UID:3b0977ec-a885-4136-af75-24a0c543b775
END:VEVENT
END:VCALENDAR
