BEGIN:VCALENDAR
PRODID:-//github.com/rianjs/ical.net//NONSGML ical.net 4.0//EN
VERSION:2.0
BEGIN:VTIMEZONE
TZID:Pacific Standard Time
X-LIC-LOCATION:America/Los_Angeles
BEGIN:STANDARD
DTSTART:20241103T020000
RRULE:FREQ=YEARLY;BYDAY=1SU;BYMONTH=11
TZNAME:PST
TZOFFSETFROM:-0700
TZOFFSETTO:-0800
END:STANDARD
BEGIN:DAYLIGHT
DTSTART:20250309T020000
RRULE:FREQ=YEARLY;BYDAY=2SU;BYMONTH=3
TZNAME:PDT
TZOFFSETFROM:-0800
TZOFFSETTO:-0700
END:DAYLIGHT
END:VTIMEZONE
BEGIN:VEVENT
DESCRIPTION:2025 Annual Meeting by the American Academy of Neurology\n\nTi
 tle: Infections of the Nervous System 3: Parasites\, Fungi\, and Amoebas\
 , Oh My: A Case-based Learning Approach to NeuroID\n\nAccess URL: https:/
 /www.aan.com/MSA/Public/Events/GetEventURL/17988\n\nLearn More About This
  Event: https://www.aan.com/MSA/Public/Events/Details/17988
DTEND;TZID=Pacific Standard Time:20250406T173000
DTSTAMP:20260421T081412Z
DTSTART;TZID=Pacific Standard Time:20250406T153000
LOCATION:https://www.aan.com/MSA/Public/Events/GetEventURL/17988
SEQUENCE:0
SUMMARY:AAN: Infections of the Nervous System 3: Parasites\, Fungi\, and A
 moebas\, Oh My: A Case-based Learning Approach to NeuroID
UID:87c4df65-8e98-47a9-ac1f-0e08a0e35619
END:VEVENT
END:VCALENDAR
