BEGIN:VCALENDAR
PRODID:-//github.com/rianjs/ical.net//NONSGML ical.net 4.0//EN
VERSION:2.0
BEGIN:VTIMEZONE
TZID:Pacific Standard Time
X-LIC-LOCATION:America/Los_Angeles
BEGIN:STANDARD
DTSTART:20241103T020000
RRULE:FREQ=YEARLY;BYDAY=1SU;BYMONTH=11
TZNAME:PST
TZOFFSETFROM:-0700
TZOFFSETTO:-0800
END:STANDARD
BEGIN:DAYLIGHT
DTSTART:20250309T020000
RRULE:FREQ=YEARLY;BYDAY=2SU;BYMONTH=3
TZNAME:PDT
TZOFFSETFROM:-0800
TZOFFSETTO:-0700
END:DAYLIGHT
END:VTIMEZONE
BEGIN:VEVENT
DESCRIPTION:2025 Annual Meeting by the American Academy of Neurology\n\nTi
 tle: Clinical Pearls in Autoimmune Neurology: Real-world Cases\n\nAccess 
 URL: https://www.aan.com/MSA/Public/Events/GetEventURL/17994\n\nLearn Mor
 e About This Event: https://www.aan.com/MSA/Public/Events/Details/17994
DTEND;TZID=Pacific Standard Time:20250407T090000
DTSTAMP:20260421T082632Z
DTSTART;TZID=Pacific Standard Time:20250407T070000
LOCATION:https://www.aan.com/MSA/Public/Events/GetEventURL/17994
SEQUENCE:0
SUMMARY:AAN: Clinical Pearls in Autoimmune Neurology: Real-world Cases
UID:e02adcf6-f3fc-4374-ba03-3643581ef24b
END:VEVENT
END:VCALENDAR
