BEGIN:VCALENDAR
PRODID:-//github.com/rianjs/ical.net//NONSGML ical.net 4.0//EN
VERSION:2.0
BEGIN:VTIMEZONE
TZID:Pacific Standard Time
X-LIC-LOCATION:America/Los_Angeles
BEGIN:STANDARD
DTSTART:20241103T020000
RRULE:FREQ=YEARLY;BYDAY=1SU;BYMONTH=11
TZNAME:PST
TZOFFSETFROM:-0700
TZOFFSETTO:-0800
END:STANDARD
BEGIN:DAYLIGHT
DTSTART:20250309T020000
RRULE:FREQ=YEARLY;BYDAY=2SU;BYMONTH=3
TZNAME:PDT
TZOFFSETFROM:-0800
TZOFFSETTO:-0700
END:DAYLIGHT
END:VTIMEZONE
BEGIN:VEVENT
DESCRIPTION:2025 Annual Meeting by the American Academy of Neurology\n\nTi
 tle: Continuum® Test Your Knowledge: A Multiple-choice Question Review\n\
 nAccess URL: https://www.aan.com/MSA/Public/Events/GetEventURL/18017\n\nL
 earn More About This Event: https://www.aan.com/MSA/Public/Events/Details
 /18017
DTEND;TZID=Pacific Standard Time:20250407T150000
DTSTAMP:20260421T082612Z
DTSTART;TZID=Pacific Standard Time:20250407T130000
LOCATION:https://www.aan.com/MSA/Public/Events/GetEventURL/18017
SEQUENCE:0
SUMMARY:AAN: Continuum® Test Your Knowledge: A Multiple-choice Question Re
 view
UID:0d942d72-4c30-4644-9128-26ced846ad98
END:VEVENT
END:VCALENDAR
