BEGIN:VCALENDAR
PRODID:-//github.com/rianjs/ical.net//NONSGML ical.net 4.0//EN
VERSION:2.0
BEGIN:VTIMEZONE
TZID:Pacific Standard Time
X-LIC-LOCATION:America/Los_Angeles
BEGIN:STANDARD
DTSTART:20241103T020000
RRULE:FREQ=YEARLY;BYDAY=1SU;BYMONTH=11
TZNAME:PST
TZOFFSETFROM:-0700
TZOFFSETTO:-0800
END:STANDARD
BEGIN:DAYLIGHT
DTSTART:20250309T020000
RRULE:FREQ=YEARLY;BYDAY=2SU;BYMONTH=3
TZNAME:PDT
TZOFFSETFROM:-0800
TZOFFSETTO:-0700
END:DAYLIGHT
END:VTIMEZONE
BEGIN:VEVENT
DESCRIPTION:2025 Annual Meeting by the American Academy of Neurology\n\nTi
 tle: Neurology Education: Faculty Development: Enhancing Your Role in Stu
 dent and Resident Training\n\nAccess URL: https://www.aan.com/MSA/Public/
 Events/GetEventURL/18023\n\nLearn More About This Event: https://www.aan.
 com/MSA/Public/Events/Details/18023
DTEND;TZID=Pacific Standard Time:20250407T173000
DTSTAMP:20260421T121902Z
DTSTART;TZID=Pacific Standard Time:20250407T153000
LOCATION:https://www.aan.com/MSA/Public/Events/GetEventURL/18023
SEQUENCE:0
SUMMARY:AAN: Neurology Education: Faculty Development: Enhancing Your Role
  in Student and Resident Training
UID:06520b2e-c7a4-400c-be45-ea11fe85508a
END:VEVENT
END:VCALENDAR
