BEGIN:VCALENDAR
PRODID:-//github.com/rianjs/ical.net//NONSGML ical.net 4.0//EN
VERSION:2.0
BEGIN:VTIMEZONE
TZID:Pacific Standard Time
X-LIC-LOCATION:America/Los_Angeles
BEGIN:STANDARD
DTSTART:20241103T020000
RRULE:FREQ=YEARLY;BYDAY=1SU;BYMONTH=11
TZNAME:PST
TZOFFSETFROM:-0700
TZOFFSETTO:-0800
END:STANDARD
BEGIN:DAYLIGHT
DTSTART:20250309T020000
RRULE:FREQ=YEARLY;BYDAY=2SU;BYMONTH=3
TZNAME:PDT
TZOFFSETFROM:-0800
TZOFFSETTO:-0700
END:DAYLIGHT
END:VTIMEZONE
BEGIN:VEVENT
DESCRIPTION:2025 Annual Meeting by the American Academy of Neurology\n\nTi
 tle: Neuroimaging for the General Neurologist: Spine\n\nAccess URL: https
 ://www.aan.com/MSA/Public/Events/GetEventURL/18025\n\nLearn More About Th
 is Event: https://www.aan.com/MSA/Public/Events/Details/18025
DTEND;TZID=Pacific Standard Time:20250407T173000
DTSTAMP:20260421T082729Z
DTSTART;TZID=Pacific Standard Time:20250407T153000
LOCATION:https://www.aan.com/MSA/Public/Events/GetEventURL/18025
SEQUENCE:0
SUMMARY:AAN: Neuroimaging for the General Neurologist: Spine
UID:7b70a6d8-bb65-4d64-a303-00736b426c47
END:VEVENT
END:VCALENDAR
