BEGIN:VCALENDAR
PRODID:-//github.com/rianjs/ical.net//NONSGML ical.net 4.0//EN
VERSION:2.0
BEGIN:VTIMEZONE
TZID:Pacific Standard Time
X-LIC-LOCATION:America/Los_Angeles
BEGIN:STANDARD
DTSTART:20241103T020000
RRULE:FREQ=YEARLY;BYDAY=1SU;BYMONTH=11
TZNAME:PST
TZOFFSETFROM:-0700
TZOFFSETTO:-0800
END:STANDARD
BEGIN:DAYLIGHT
DTSTART:20250309T020000
RRULE:FREQ=YEARLY;BYDAY=2SU;BYMONTH=3
TZNAME:PDT
TZOFFSETFROM:-0800
TZOFFSETTO:-0700
END:DAYLIGHT
END:VTIMEZONE
BEGIN:VEVENT
DESCRIPTION:2025 Annual Meeting by the American Academy of Neurology\n\nTi
 tle: Stroke Burden and Disparities in Low Resource Areas in the United St
 ates: Strategies and Solutions\n\nAccess URL: https://www.aan.com/MSA/Pub
 lic/Events/GetEventURL/18050\n\nLearn More About This Event: https://www.
 aan.com/MSA/Public/Events/Details/18050
DTEND;TZID=Pacific Standard Time:20250408T150000
DTSTAMP:20260421T082754Z
DTSTART;TZID=Pacific Standard Time:20250408T130000
LOCATION:https://www.aan.com/MSA/Public/Events/GetEventURL/18050
SEQUENCE:0
SUMMARY:AAN: Stroke Burden and Disparities in Low Resource Areas in the Un
 ited States: Strategies and Solutions
UID:579e4107-7fd6-43cc-82c9-9b833e4b5edb
END:VEVENT
END:VCALENDAR
