BEGIN:VCALENDAR
PRODID:-//github.com/rianjs/ical.net//NONSGML ical.net 4.0//EN
VERSION:2.0
BEGIN:VTIMEZONE
TZID:Pacific Standard Time
X-LIC-LOCATION:America/Los_Angeles
BEGIN:STANDARD
DTSTART:20241103T020000
RRULE:FREQ=YEARLY;BYDAY=1SU;BYMONTH=11
TZNAME:PST
TZOFFSETFROM:-0700
TZOFFSETTO:-0800
END:STANDARD
BEGIN:DAYLIGHT
DTSTART:20250309T020000
RRULE:FREQ=YEARLY;BYDAY=2SU;BYMONTH=3
TZNAME:PDT
TZOFFSETFROM:-0800
TZOFFSETTO:-0700
END:DAYLIGHT
END:VTIMEZONE
BEGIN:VEVENT
DESCRIPTION:2025 Annual Meeting by the American Academy of Neurology\n\nTi
 tle: Neurogenetics: Applications in Clinical Practice\n\nAccess URL: http
 s://www.aan.com/MSA/Public/Events/GetEventURL/18053\n\nLearn More About T
 his Event: https://www.aan.com/MSA/Public/Events/Details/18053
DTEND;TZID=Pacific Standard Time:20250408T150000
DTSTAMP:20260421T082858Z
DTSTART;TZID=Pacific Standard Time:20250408T130000
LOCATION:https://www.aan.com/MSA/Public/Events/GetEventURL/18053
SEQUENCE:0
SUMMARY:AAN: Neurogenetics: Applications in Clinical Practice
UID:98b1a096-36d6-4dc3-b233-d05ebcbb2fb5
END:VEVENT
END:VCALENDAR
