BEGIN:VCALENDAR
PRODID:-//github.com/rianjs/ical.net//NONSGML ical.net 4.0//EN
VERSION:2.0
BEGIN:VTIMEZONE
TZID:Pacific Standard Time
X-LIC-LOCATION:America/Los_Angeles
BEGIN:STANDARD
DTSTART:20241103T020000
RRULE:FREQ=YEARLY;BYDAY=1SU;BYMONTH=11
TZNAME:PST
TZOFFSETFROM:-0700
TZOFFSETTO:-0800
END:STANDARD
BEGIN:DAYLIGHT
DTSTART:20250309T020000
RRULE:FREQ=YEARLY;BYDAY=2SU;BYMONTH=3
TZNAME:PDT
TZOFFSETFROM:-0800
TZOFFSETTO:-0700
END:DAYLIGHT
END:VTIMEZONE
BEGIN:VEVENT
DESCRIPTION:2025 Annual Meeting by the American Academy of Neurology\n\nTi
 tle: Neuro-ophthalmology 3: Diplopia\, Ocular Motility Disorders\, and Ny
 stagmus\n\nAccess URL: https://www.aan.com/MSA/Public/Events/GetEventURL/
 18063\n\nLearn More About This Event: https://www.aan.com/MSA/Public/Even
 ts/Details/18063
DTEND;TZID=Pacific Standard Time:20250408T173000
DTSTAMP:20260421T081336Z
DTSTART;TZID=Pacific Standard Time:20250408T153000
LOCATION:https://www.aan.com/MSA/Public/Events/GetEventURL/18063
SEQUENCE:0
SUMMARY:AAN: Neuro-ophthalmology 3: Diplopia\, Ocular Motility Disorders\,
  and Nystagmus
UID:251085f5-905d-497a-8afe-4c5e358b1cec
END:VEVENT
END:VCALENDAR
