BEGIN:VCALENDAR
PRODID:-//github.com/rianjs/ical.net//NONSGML ical.net 4.0//EN
VERSION:2.0
BEGIN:VTIMEZONE
TZID:Pacific Standard Time
X-LIC-LOCATION:America/Los_Angeles
BEGIN:STANDARD
DTSTART:20241103T020000
RRULE:FREQ=YEARLY;BYDAY=1SU;BYMONTH=11
TZNAME:PST
TZOFFSETFROM:-0700
TZOFFSETTO:-0800
END:STANDARD
BEGIN:DAYLIGHT
DTSTART:20250309T020000
RRULE:FREQ=YEARLY;BYDAY=2SU;BYMONTH=3
TZNAME:PDT
TZOFFSETFROM:-0800
TZOFFSETTO:-0700
END:DAYLIGHT
END:VTIMEZONE
BEGIN:VEVENT
DESCRIPTION:2025 Annual Meeting by the American Academy of Neurology\n\nTi
 tle: Higher Cortical Visual Disorders: Case-based Review\n\nAccess URL: h
 ttps://www.aan.com/MSA/Public/Events/GetEventURL/18076\n\nLearn More Abou
 t This Event: https://www.aan.com/MSA/Public/Events/Details/18076
DTEND;TZID=Pacific Standard Time:20250409T090000
DTSTAMP:20260421T082858Z
DTSTART;TZID=Pacific Standard Time:20250409T070000
LOCATION:https://www.aan.com/MSA/Public/Events/GetEventURL/18076
SEQUENCE:0
SUMMARY:AAN: Higher Cortical Visual Disorders: Case-based Review
UID:ccb14d5c-4c5f-4bc0-9691-a0a4002423c7
END:VEVENT
END:VCALENDAR
