BEGIN:VCALENDAR
PRODID:-//github.com/rianjs/ical.net//NONSGML ical.net 4.0//EN
VERSION:2.0
BEGIN:VTIMEZONE
TZID:Pacific Standard Time
X-LIC-LOCATION:America/Los_Angeles
BEGIN:STANDARD
DTSTART:20241103T020000
RRULE:FREQ=YEARLY;BYDAY=1SU;BYMONTH=11
TZNAME:PST
TZOFFSETFROM:-0700
TZOFFSETTO:-0800
END:STANDARD
BEGIN:DAYLIGHT
DTSTART:20250309T020000
RRULE:FREQ=YEARLY;BYDAY=2SU;BYMONTH=3
TZNAME:PDT
TZOFFSETFROM:-0800
TZOFFSETTO:-0700
END:DAYLIGHT
END:VTIMEZONE
BEGIN:VEVENT
DESCRIPTION:2025 Annual Meeting by the American Academy of Neurology\n\nTi
 tle: Recognizing Complications of Immunomodulation in Neurology Patients\
 n\nAccess URL: https://www.aan.com/MSA/Public/Events/GetEventURL/18080\n\
 nLearn More About This Event: https://www.aan.com/MSA/Public/Events/Detai
 ls/18080
DTEND;TZID=Pacific Standard Time:20250409T090000
DTSTAMP:20260421T081122Z
DTSTART;TZID=Pacific Standard Time:20250409T070000
LOCATION:https://www.aan.com/MSA/Public/Events/GetEventURL/18080
SEQUENCE:0
SUMMARY:AAN: Recognizing Complications of Immunomodulation in Neurology Pa
 tients
UID:4833dfaf-2d85-4eb2-ba68-35a5b8f15fde
END:VEVENT
END:VCALENDAR
