BEGIN:VCALENDAR
PRODID:-//github.com/rianjs/ical.net//NONSGML ical.net 4.0//EN
VERSION:2.0
BEGIN:VTIMEZONE
TZID:Pacific Standard Time
X-LIC-LOCATION:America/Los_Angeles
BEGIN:STANDARD
DTSTART:20241103T020000
RRULE:FREQ=YEARLY;BYDAY=1SU;BYMONTH=11
TZNAME:PST
TZOFFSETFROM:-0700
TZOFFSETTO:-0800
END:STANDARD
BEGIN:DAYLIGHT
DTSTART:20250309T020000
RRULE:FREQ=YEARLY;BYDAY=2SU;BYMONTH=3
TZNAME:PDT
TZOFFSETFROM:-0800
TZOFFSETTO:-0700
END:DAYLIGHT
END:VTIMEZONE
BEGIN:VEVENT
DESCRIPTION:2025 Annual Meeting by the American Academy of Neurology\n\nTi
 tle: Diagnosis and Treatment of Functional Movement Disorders\n\nAccess U
 RL: https://www.aan.com/MSA/Public/Events/GetEventURL/18093\n\nLearn More
  About This Event: https://www.aan.com/MSA/Public/Events/Details/18093
DTEND;TZID=Pacific Standard Time:20250409T173000
DTSTAMP:20260421T082754Z
DTSTART;TZID=Pacific Standard Time:20250409T153000
LOCATION:https://www.aan.com/MSA/Public/Events/GetEventURL/18093
SEQUENCE:0
SUMMARY:AAN: Diagnosis and Treatment of Functional Movement Disorders
UID:e9449b69-9bc3-46e3-b2d1-dc9001b60c07
END:VEVENT
END:VCALENDAR
