BEGIN:VCALENDAR
PRODID:-//github.com/rianjs/ical.net//NONSGML ical.net 4.0//EN
VERSION:2.0
BEGIN:VTIMEZONE
TZID:Pacific Standard Time
X-LIC-LOCATION:America/Los_Angeles
BEGIN:STANDARD
DTSTART:20241103T020000
RRULE:FREQ=YEARLY;BYDAY=1SU;BYMONTH=11
TZNAME:PST
TZOFFSETFROM:-0700
TZOFFSETTO:-0800
END:STANDARD
BEGIN:DAYLIGHT
DTSTART:20250309T020000
RRULE:FREQ=YEARLY;BYDAY=2SU;BYMONTH=3
TZNAME:PDT
TZOFFSETFROM:-0800
TZOFFSETTO:-0700
END:DAYLIGHT
END:VTIMEZONE
BEGIN:VEVENT
DESCRIPTION:2025 Annual Meeting by the American Academy of Neurology\n\nTi
 tle: 	Enhancing Patient Access and Equity in Health Care Practices\n\nAcc
 ess URL: https://www.aan.com/MSA/Public/Events/GetEventURL/18096\n\nLearn
  More About This Event: https://www.aan.com/MSA/Public/Events/Details/180
 96
DTEND;TZID=Pacific Standard Time:20250407T121500
DTSTAMP:20260421T081439Z
DTSTART;TZID=Pacific Standard Time:20250407T111500
LOCATION:https://www.aan.com/MSA/Public/Events/GetEventURL/18096
SEQUENCE:0
SUMMARY:AAN: 	Enhancing Patient Access and Equity in Health Care Practices
UID:b2ca5425-71ca-47d6-bb21-4039c9278a9d
END:VEVENT
END:VCALENDAR
