BEGIN:VCALENDAR
PRODID:-//github.com/rianjs/ical.net//NONSGML ical.net 4.0//EN
VERSION:2.0
BEGIN:VTIMEZONE
TZID:Pacific Standard Time
X-LIC-LOCATION:America/Los_Angeles
BEGIN:STANDARD
DTSTART:20241103T020000
RRULE:FREQ=YEARLY;BYDAY=1SU;BYMONTH=11
TZNAME:PST
TZOFFSETFROM:-0700
TZOFFSETTO:-0800
END:STANDARD
BEGIN:DAYLIGHT
DTSTART:20250309T020000
RRULE:FREQ=YEARLY;BYDAY=2SU;BYMONTH=3
TZNAME:PDT
TZOFFSETFROM:-0800
TZOFFSETTO:-0700
END:DAYLIGHT
END:VTIMEZONE
BEGIN:VEVENT
DESCRIPTION:2025 Annual Meeting by the American Academy of Neurology\n\nTi
 tle: Neuroscience in the Clinic: Repeat Expansion Disorders in Neurologic
 al Disease\n\nAccess URL: https://www.aan.com/MSA/Public/Events/GetEventU
 RL/18098\n\nLearn More About This Event: https://www.aan.com/MSA/Public/E
 vents/Details/18098
DTEND;TZID=Pacific Standard Time:20250405T140000
DTSTAMP:20260419T125509Z
DTSTART;TZID=Pacific Standard Time:20250405T120000
LOCATION:https://www.aan.com/MSA/Public/Events/GetEventURL/18098
SEQUENCE:0
SUMMARY:AAN: Neuroscience in the Clinic: Repeat Expansion Disorders in Neu
 rological Disease
UID:a1a7abd1-986d-448f-8562-f5c14ba3c11d
END:VEVENT
END:VCALENDAR
