BEGIN:VCALENDAR
PRODID:-//github.com/rianjs/ical.net//NONSGML ical.net 4.0//EN
VERSION:2.0
BEGIN:VTIMEZONE
TZID:Pacific Standard Time
X-LIC-LOCATION:America/Los_Angeles
BEGIN:STANDARD
DTSTART:20241103T020000
RRULE:FREQ=YEARLY;BYDAY=1SU;BYMONTH=11
TZNAME:PST
TZOFFSETFROM:-0700
TZOFFSETTO:-0800
END:STANDARD
BEGIN:DAYLIGHT
DTSTART:20250309T020000
RRULE:FREQ=YEARLY;BYDAY=2SU;BYMONTH=3
TZNAME:PDT
TZOFFSETFROM:-0800
TZOFFSETTO:-0700
END:DAYLIGHT
END:VTIMEZONE
BEGIN:VEVENT
DESCRIPTION:2025 Annual Meeting by the American Academy of Neurology\n\nTi
 tle: Poster Session 06\n\nAccess URL: https://www.aan.com/MSA/Public/Even
 ts/GetEventURL/18104\n\nLearn More About This Event: https://www.aan.com/
 MSA/Public/Events/Details/18104
DTEND;TZID=Pacific Standard Time:20250407T124500
DTSTAMP:20260421T081244Z
DTSTART;TZID=Pacific Standard Time:20250407T114500
LOCATION:https://www.aan.com/MSA/Public/Events/GetEventURL/18104
SEQUENCE:0
SUMMARY:AAN: Poster Session 06
UID:af40c5d3-2170-406e-8e5e-71ea13c778bd
END:VEVENT
END:VCALENDAR
