BEGIN:VCALENDAR
PRODID:-//github.com/rianjs/ical.net//NONSGML ical.net 4.0//EN
VERSION:2.0
BEGIN:VTIMEZONE
TZID:Pacific Standard Time
X-LIC-LOCATION:America/Los_Angeles
BEGIN:STANDARD
DTSTART:20241103T020000
RRULE:FREQ=YEARLY;BYDAY=1SU;BYMONTH=11
TZNAME:PST
TZOFFSETFROM:-0700
TZOFFSETTO:-0800
END:STANDARD
BEGIN:DAYLIGHT
DTSTART:20250309T020000
RRULE:FREQ=YEARLY;BYDAY=2SU;BYMONTH=3
TZNAME:PDT
TZOFFSETFROM:-0800
TZOFFSETTO:-0700
END:DAYLIGHT
END:VTIMEZONE
BEGIN:VEVENT
DESCRIPTION:2025 Annual Meeting by the American Academy of Neurology\n\nTi
 tle: Controversies in Neurology Plenary Session\n\nAccess URL: https://ww
 w.aan.com/MSA/Public/Events/GetEventURL/18114\n\nLearn More About This Ev
 ent: https://www.aan.com/MSA/Public/Events/Details/18114
DTEND;TZID=Pacific Standard Time:20250405T111500
DTSTAMP:20260421T082858Z
DTSTART;TZID=Pacific Standard Time:20250405T091500
LOCATION:https://www.aan.com/MSA/Public/Events/GetEventURL/18114
SEQUENCE:0
SUMMARY:AAN: Controversies in Neurology Plenary Session
UID:b50762b0-36e0-44fe-b010-c300d386b662
END:VEVENT
END:VCALENDAR
