BEGIN:VCALENDAR
PRODID:-//github.com/rianjs/ical.net//NONSGML ical.net 4.0//EN
VERSION:2.0
BEGIN:VTIMEZONE
TZID:Pacific Standard Time
X-LIC-LOCATION:America/Los_Angeles
BEGIN:STANDARD
DTSTART:20241103T020000
RRULE:FREQ=YEARLY;BYDAY=1SU;BYMONTH=11
TZNAME:PST
TZOFFSETFROM:-0700
TZOFFSETTO:-0800
END:STANDARD
BEGIN:DAYLIGHT
DTSTART:20250309T020000
RRULE:FREQ=YEARLY;BYDAY=2SU;BYMONTH=3
TZNAME:PDT
TZOFFSETFROM:-0800
TZOFFSETTO:-0700
END:DAYLIGHT
END:VTIMEZONE
BEGIN:VEVENT
DESCRIPTION:2025 Annual Meeting by the American Academy of Neurology\n\nTi
 tle: Attendee Lunch\n\nDescription: Boxed lunches will be served in the P
 oster Hall for Annual Meeting attendees and are included in your registra
 tion fee. Vegan\, gluten free\, and nut free options will be available. F
 irst come\, first served\, limit one lunch daily per attendee. Available 
 while quantities last. \n\nLearn More About This Event: https://www.aan.c
 om/MSA/Public/Events/Details/18116
DTEND;TZID=Pacific Standard Time:20250406T133000
DTSTAMP:20260419T125134Z
DTSTART;TZID=Pacific Standard Time:20250406T113000
LOCATION:https://www.aan.com/MSA/Public/Events/GetEventURL/18116
SEQUENCE:0
SUMMARY:AAN: Attendee Lunch
UID:48c867ef-a3f5-4afc-bfac-9f9c6717ba2d
END:VEVENT
END:VCALENDAR
