BEGIN:VCALENDAR
PRODID:-//github.com/rianjs/ical.net//NONSGML ical.net 4.0//EN
VERSION:2.0
BEGIN:VTIMEZONE
TZID:Pacific Standard Time
X-LIC-LOCATION:America/Los_Angeles
BEGIN:STANDARD
DTSTART:20241103T020000
RRULE:FREQ=YEARLY;BYDAY=1SU;BYMONTH=11
TZNAME:PST
TZOFFSETFROM:-0700
TZOFFSETTO:-0800
END:STANDARD
BEGIN:DAYLIGHT
DTSTART:20250309T020000
RRULE:FREQ=YEARLY;BYDAY=2SU;BYMONTH=3
TZNAME:PDT
TZOFFSETFROM:-0800
TZOFFSETTO:-0700
END:DAYLIGHT
END:VTIMEZONE
BEGIN:VEVENT
DESCRIPTION:2025 Annual Meeting by the American Academy of Neurology\n\nTi
 tle: Novel Approaches for Restoring Function After Spinal Cord Injury\n\n
 Access URL: https://www.aan.com/MSA/Public/Events/GetEventURL/18129\n\nLe
 arn More About This Event: https://www.aan.com/MSA/Public/Events/Details/
 18129
DTEND;TZID=Pacific Standard Time:20250405T090000
DTSTAMP:20260421T082740Z
DTSTART;TZID=Pacific Standard Time:20250405T070000
LOCATION:https://www.aan.com/MSA/Public/Events/GetEventURL/18129
SEQUENCE:0
SUMMARY:AAN: Novel Approaches for Restoring Function After Spinal Cord Inj
 ury
UID:25e229c4-d31d-461a-af36-7132a8f732d9
END:VEVENT
END:VCALENDAR
