BEGIN:VCALENDAR
PRODID:-//github.com/rianjs/ical.net//NONSGML ical.net 4.0//EN
VERSION:2.0
BEGIN:VTIMEZONE
TZID:Pacific Standard Time
X-LIC-LOCATION:America/Los_Angeles
BEGIN:STANDARD
DTSTART:20241103T020000
RRULE:FREQ=YEARLY;BYDAY=1SU;BYMONTH=11
TZNAME:PST
TZOFFSETFROM:-0700
TZOFFSETTO:-0800
END:STANDARD
BEGIN:DAYLIGHT
DTSTART:20250309T020000
RRULE:FREQ=YEARLY;BYDAY=2SU;BYMONTH=3
TZNAME:PDT
TZOFFSETFROM:-0800
TZOFFSETTO:-0700
END:DAYLIGHT
END:VTIMEZONE
BEGIN:VEVENT
DESCRIPTION:2025 Annual Meeting by the American Academy of Neurology\n\nTi
 tle: Revised McDonald Criteria (2024): Diagnosis and Misdiagnosis of MS i
 n 2024 and Beyond\n\nAccess URL: https://www.aan.com/MSA/Public/Events/Ge
 tEventURL/18130\n\nLearn More About This Event: https://www.aan.com/MSA/P
 ublic/Events/Details/18130
DTEND;TZID=Pacific Standard Time:20250405T140000
DTSTAMP:20260421T082754Z
DTSTART;TZID=Pacific Standard Time:20250405T120000
LOCATION:https://www.aan.com/MSA/Public/Events/GetEventURL/18130
SEQUENCE:0
SUMMARY:AAN: Revised McDonald Criteria (2024): Diagnosis and Misdiagnosis 
 of MS in 2024 and Beyond
UID:33be5297-a1b3-4dc0-816e-56db6cd2dd12
END:VEVENT
END:VCALENDAR
