BEGIN:VCALENDAR
PRODID:-//github.com/rianjs/ical.net//NONSGML ical.net 4.0//EN
VERSION:2.0
BEGIN:VTIMEZONE
TZID:Pacific Standard Time
X-LIC-LOCATION:America/Los_Angeles
BEGIN:STANDARD
DTSTART:20241103T020000
RRULE:FREQ=YEARLY;BYDAY=1SU;BYMONTH=11
TZNAME:PST
TZOFFSETFROM:-0700
TZOFFSETTO:-0800
END:STANDARD
BEGIN:DAYLIGHT
DTSTART:20250309T020000
RRULE:FREQ=YEARLY;BYDAY=2SU;BYMONTH=3
TZNAME:PDT
TZOFFSETFROM:-0800
TZOFFSETTO:-0700
END:DAYLIGHT
END:VTIMEZONE
BEGIN:VEVENT
DESCRIPTION:2025 Annual Meeting by the American Academy of Neurology\n\nTi
 tle: A Clinical Approach to Undifferentiated Gait Disorders\n\nAccess URL
 : https://www.aan.com/MSA/Public/Events/GetEventURL/18131\n\nLearn More A
 bout This Event: https://www.aan.com/MSA/Public/Events/Details/18131
DTEND;TZID=Pacific Standard Time:20250405T163000
DTSTAMP:20260421T082426Z
DTSTART;TZID=Pacific Standard Time:20250405T143000
LOCATION:https://www.aan.com/MSA/Public/Events/GetEventURL/18131
SEQUENCE:0
SUMMARY:AAN: A Clinical Approach to Undifferentiated Gait Disorders
UID:cecf1f83-e8e7-4879-b726-323b54dfc93e
END:VEVENT
END:VCALENDAR
