BEGIN:VCALENDAR
PRODID:-//github.com/rianjs/ical.net//NONSGML ical.net 4.0//EN
VERSION:2.0
BEGIN:VTIMEZONE
TZID:Pacific Standard Time
X-LIC-LOCATION:America/Los_Angeles
BEGIN:STANDARD
DTSTART:20241103T020000
RRULE:FREQ=YEARLY;BYDAY=1SU;BYMONTH=11
TZNAME:PST
TZOFFSETFROM:-0700
TZOFFSETTO:-0800
END:STANDARD
BEGIN:DAYLIGHT
DTSTART:20250309T020000
RRULE:FREQ=YEARLY;BYDAY=2SU;BYMONTH=3
TZNAME:PDT
TZOFFSETFROM:-0800
TZOFFSETTO:-0700
END:DAYLIGHT
END:VTIMEZONE
BEGIN:VEVENT
DESCRIPTION:2025 Annual Meeting by the American Academy of Neurology\n\nTi
 tle: Neurology Education: Building Custom GPTs: A Hands-on Workshop On Us
 ing ChatGPT for Simulation-based Neurology Education\n\nAccess URL: https
 ://www.aan.com/MSA/Public/Events/GetEventURL/18133\n\nLearn More About Th
 is Event: https://www.aan.com/MSA/Public/Events/Details/18133
DTEND;TZID=Pacific Standard Time:20250406T140000
DTSTAMP:20260421T081336Z
DTSTART;TZID=Pacific Standard Time:20250406T130000
LOCATION:https://www.aan.com/MSA/Public/Events/GetEventURL/18133
SEQUENCE:0
SUMMARY:AAN: Neurology Education: Building Custom GPTs: A Hands-on Worksho
 p On Using ChatGPT for Simulation-based Neurology Education
UID:bb12591f-9e83-4477-80cb-b17b56fe8c04
END:VEVENT
END:VCALENDAR
