BEGIN:VCALENDAR
PRODID:-//github.com/rianjs/ical.net//NONSGML ical.net 4.0//EN
VERSION:2.0
BEGIN:VTIMEZONE
TZID:Pacific Standard Time
X-LIC-LOCATION:America/Los_Angeles
BEGIN:STANDARD
DTSTART:20241103T020000
RRULE:FREQ=YEARLY;BYDAY=1SU;BYMONTH=11
TZNAME:PST
TZOFFSETFROM:-0700
TZOFFSETTO:-0800
END:STANDARD
BEGIN:DAYLIGHT
DTSTART:20250309T020000
RRULE:FREQ=YEARLY;BYDAY=2SU;BYMONTH=3
TZNAME:PDT
TZOFFSETFROM:-0800
TZOFFSETTO:-0700
END:DAYLIGHT
END:VTIMEZONE
BEGIN:VEVENT
DESCRIPTION:2025 Annual Meeting by the American Academy of Neurology\n\nTi
 tle: Beyond Waking up Sleeping Beauty: The Neurorecovery of Coma\n\nAcces
 s URL: https://www.aan.com/MSA/Public/Events/GetEventURL/18139\n\nLearn M
 ore About This Event: https://www.aan.com/MSA/Public/Events/Details/18139
DTEND;TZID=Pacific Standard Time:20250407T121500
DTSTAMP:20260421T081329Z
DTSTART;TZID=Pacific Standard Time:20250407T111500
LOCATION:https://www.aan.com/MSA/Public/Events/GetEventURL/18139
SEQUENCE:0
SUMMARY:AAN: Beyond Waking up Sleeping Beauty: The Neurorecovery of Coma
UID:7c89115a-0aac-4bd0-b05d-d9c96f6d0451
END:VEVENT
END:VCALENDAR
