BEGIN:VCALENDAR
PRODID:-//github.com/rianjs/ical.net//NONSGML ical.net 4.0//EN
VERSION:2.0
BEGIN:VTIMEZONE
TZID:Pacific Standard Time
X-LIC-LOCATION:America/Los_Angeles
BEGIN:STANDARD
DTSTART:20241103T020000
RRULE:FREQ=YEARLY;BYDAY=1SU;BYMONTH=11
TZNAME:PST
TZOFFSETFROM:-0700
TZOFFSETTO:-0800
END:STANDARD
BEGIN:DAYLIGHT
DTSTART:20250309T020000
RRULE:FREQ=YEARLY;BYDAY=2SU;BYMONTH=3
TZNAME:PDT
TZOFFSETFROM:-0800
TZOFFSETTO:-0700
END:DAYLIGHT
END:VTIMEZONE
BEGIN:VEVENT
DESCRIPTION:2025 Annual Meeting by the American Academy of Neurology\n\nTi
 tle: Neurology Education: A.B. Baker Showcase: Successful Programs\, Acti
 vities\, and Structural Changes to Address Learner and Faculty Wellness\n
 \nAccess URL: https://www.aan.com/MSA/Public/Events/GetEventURL/18142\n\n
 Learn More About This Event: https://www.aan.com/MSA/Public/Events/Detail
 s/18142
DTEND;TZID=Pacific Standard Time:20250407T150000
DTSTAMP:20260421T081321Z
DTSTART;TZID=Pacific Standard Time:20250407T140000
LOCATION:https://www.aan.com/MSA/Public/Events/GetEventURL/18142
SEQUENCE:0
SUMMARY:AAN: Neurology Education: A.B. Baker Showcase: Successful Programs
 \, Activities\, and Structural Changes to Address Learner and Faculty Wel
 lness
UID:e9572138-a4f3-40e6-b2d8-86416ce81dbd
END:VEVENT
END:VCALENDAR
