BEGIN:VCALENDAR
PRODID:-//github.com/rianjs/ical.net//NONSGML ical.net 4.0//EN
VERSION:2.0
BEGIN:VTIMEZONE
TZID:Pacific Standard Time
X-LIC-LOCATION:America/Los_Angeles
BEGIN:STANDARD
DTSTART:20241103T020000
RRULE:FREQ=YEARLY;BYDAY=1SU;BYMONTH=11
TZNAME:PST
TZOFFSETFROM:-0700
TZOFFSETTO:-0800
END:STANDARD
BEGIN:DAYLIGHT
DTSTART:20250309T020000
RRULE:FREQ=YEARLY;BYDAY=2SU;BYMONTH=3
TZNAME:PDT
TZOFFSETFROM:-0800
TZOFFSETTO:-0700
END:DAYLIGHT
END:VTIMEZONE
BEGIN:VEVENT
DESCRIPTION:2025 Annual Meeting by the American Academy of Neurology\n\nTi
 tle: Neurology Education: Engaging Your Learners: Effective Teaching Acro
 ss the Spectrum of Neurological Education\n\nAccess URL: https://www.aan.
 com/MSA/Public/Events/GetEventURL/18145\n\nLearn More About This Event: h
 ttps://www.aan.com/MSA/Public/Events/Details/18145
DTEND;TZID=Pacific Standard Time:20250408T090000
DTSTAMP:20260421T080944Z
DTSTART;TZID=Pacific Standard Time:20250408T070000
LOCATION:https://www.aan.com/MSA/Public/Events/GetEventURL/18145
SEQUENCE:0
SUMMARY:AAN: Neurology Education: Engaging Your Learners: Effective Teachi
 ng Across the Spectrum of Neurological Education
UID:1d623c6b-5d2e-41b8-a9a9-9ab904586bc4
END:VEVENT
END:VCALENDAR
