BEGIN:VCALENDAR
PRODID:-//github.com/rianjs/ical.net//NONSGML ical.net 4.0//EN
VERSION:2.0
BEGIN:VTIMEZONE
TZID:Pacific Standard Time
X-LIC-LOCATION:America/Los_Angeles
BEGIN:STANDARD
DTSTART:20241103T020000
RRULE:FREQ=YEARLY;BYDAY=1SU;BYMONTH=11
TZNAME:PST
TZOFFSETFROM:-0700
TZOFFSETTO:-0800
END:STANDARD
BEGIN:DAYLIGHT
DTSTART:20250309T020000
RRULE:FREQ=YEARLY;BYDAY=2SU;BYMONTH=3
TZNAME:PDT
TZOFFSETFROM:-0800
TZOFFSETTO:-0700
END:DAYLIGHT
END:VTIMEZONE
BEGIN:VEVENT
DESCRIPTION:2025 Annual Meeting by the American Academy of Neurology\n\nTi
 tle: Order in the Court! Neurologists as Expert Witnesses\n\nAccess URL: 
 https://www.aan.com/MSA/Public/Events/GetEventURL/18148\n\nLearn More Abo
 ut This Event: https://www.aan.com/MSA/Public/Events/Details/18148
DTEND;TZID=Pacific Standard Time:20250408T173000
DTSTAMP:20260421T081112Z
DTSTART;TZID=Pacific Standard Time:20250408T153000
LOCATION:https://www.aan.com/MSA/Public/Events/GetEventURL/18148
SEQUENCE:0
SUMMARY:AAN: Order in the Court! Neurologists as Expert Witnesses
UID:f552edcb-c068-4d0a-9ee9-0bacd404ccfd
END:VEVENT
END:VCALENDAR
