BEGIN:VCALENDAR
PRODID:-//github.com/rianjs/ical.net//NONSGML ical.net 4.0//EN
VERSION:2.0
BEGIN:VTIMEZONE
TZID:Pacific Standard Time
X-LIC-LOCATION:America/Los_Angeles
BEGIN:STANDARD
DTSTART:20241103T020000
RRULE:FREQ=YEARLY;BYDAY=1SU;BYMONTH=11
TZNAME:PST
TZOFFSETFROM:-0700
TZOFFSETTO:-0800
END:STANDARD
BEGIN:DAYLIGHT
DTSTART:20250309T020000
RRULE:FREQ=YEARLY;BYDAY=2SU;BYMONTH=3
TZNAME:PDT
TZOFFSETFROM:-0800
TZOFFSETTO:-0700
END:DAYLIGHT
END:VTIMEZONE
BEGIN:VEVENT
DESCRIPTION:2025 Annual Meeting by the American Academy of Neurology\n\nTi
 tle: Coaching 101: How Coaching Changed Our Careers and How It Can Impact
  Yours (Wellness Hub)\n\nAccess URL: https://www.aan.com/MSA/Public/Event
 s/GetEventURL/18181\n\nLearn More About This Event: https://www.aan.com/M
 SA/Public/Events/Details/18181
DTEND;TZID=Pacific Standard Time:20250405T140000
DTSTAMP:20260421T081116Z
DTSTART;TZID=Pacific Standard Time:20250405T131500
LOCATION:https://www.aan.com/MSA/Public/Events/GetEventURL/18181
SEQUENCE:0
SUMMARY:AAN: Coaching 101: How Coaching Changed Our Careers and How It Can
  Impact Yours (Wellness Hub)
UID:c00fcede-0e9b-49c3-9028-50dfba20b1bc
END:VEVENT
END:VCALENDAR
