BEGIN:VCALENDAR
PRODID:-//github.com/rianjs/ical.net//NONSGML ical.net 4.0//EN
VERSION:2.0
BEGIN:VTIMEZONE
TZID:Pacific Standard Time
X-LIC-LOCATION:America/Los_Angeles
BEGIN:STANDARD
DTSTART:20241103T020000
RRULE:FREQ=YEARLY;BYDAY=1SU;BYMONTH=11
TZNAME:PST
TZOFFSETFROM:-0700
TZOFFSETTO:-0800
END:STANDARD
BEGIN:DAYLIGHT
DTSTART:20250309T020000
RRULE:FREQ=YEARLY;BYDAY=2SU;BYMONTH=3
TZNAME:PDT
TZOFFSETFROM:-0800
TZOFFSETTO:-0700
END:DAYLIGHT
END:VTIMEZONE
BEGIN:VEVENT
DESCRIPTION:2025 Annual Meeting by the American Academy of Neurology\n\nTi
 tle: Cornell Neurology Reunion\n\nDescription: We welcome all former and 
 current Weill Cornell Neurology faculty\, residents and students to atten
 d our annual reception to catch up with old colleagues and learn about wh
 at is happening in the department\n\nLearn More About This Event: https:/
 /www.aan.com/MSA/Public/Events/Details/18184
DTEND;TZID=Pacific Standard Time:20250407T200000
DTSTAMP:20260421T082621Z
DTSTART;TZID=Pacific Standard Time:20250407T180000
LOCATION:https://www.aan.com/MSA/Public/Events/GetEventURL/18184
SEQUENCE:0
SUMMARY:AAN: Cornell Neurology Reunion
UID:2c435dd7-40d2-44a1-96e0-9719b70f6c69
END:VEVENT
END:VCALENDAR
