BEGIN:VCALENDAR
PRODID:-//github.com/rianjs/ical.net//NONSGML ical.net 4.0//EN
VERSION:2.0
BEGIN:VTIMEZONE
TZID:Pacific Standard Time
X-LIC-LOCATION:America/Los_Angeles
BEGIN:STANDARD
DTSTART:20241103T020000
RRULE:FREQ=YEARLY;BYDAY=1SU;BYMONTH=11
TZNAME:PST
TZOFFSETFROM:-0700
TZOFFSETTO:-0800
END:STANDARD
BEGIN:DAYLIGHT
DTSTART:20250309T020000
RRULE:FREQ=YEARLY;BYDAY=2SU;BYMONTH=3
TZNAME:PDT
TZOFFSETFROM:-0800
TZOFFSETTO:-0700
END:DAYLIGHT
END:VTIMEZONE
BEGIN:VEVENT
DESCRIPTION:2025 Annual Meeting by the American Academy of Neurology\n\nTi
 tle: AINA Annual Meeting & Dinner\n\nDescription: AINA's Annual Meeting &
  Dinner provides an opportunity for US members and our Indian colleagues 
 to gather.  During the meeting there are association updates\, networking
  opportunities\, awards presentations and guests enjoy an Indian meal\n\n
 Learn More About This Event: https://www.aan.com/MSA/Public/Events/Detail
 s/18186
DTEND;TZID=Pacific Standard Time:20250407T220000
DTSTAMP:20260421T082741Z
DTSTART;TZID=Pacific Standard Time:20250407T180000
LOCATION:https://www.aan.com/MSA/Public/Events/GetEventURL/18186
SEQUENCE:0
SUMMARY:AAN: AINA Annual Meeting & Dinner
UID:5c7436d5-23d2-4343-87ca-e32ff8f8f32e
END:VEVENT
END:VCALENDAR
