BEGIN:VCALENDAR
PRODID:-//github.com/rianjs/ical.net//NONSGML ical.net 4.0//EN
VERSION:2.0
BEGIN:VTIMEZONE
TZID:Pacific Standard Time
X-LIC-LOCATION:America/Los_Angeles
BEGIN:STANDARD
DTSTART:20241103T020000
RRULE:FREQ=YEARLY;BYDAY=1SU;BYMONTH=11
TZNAME:PST
TZOFFSETFROM:-0700
TZOFFSETTO:-0800
END:STANDARD
BEGIN:DAYLIGHT
DTSTART:20250309T020000
RRULE:FREQ=YEARLY;BYDAY=2SU;BYMONTH=3
TZNAME:PDT
TZOFFSETFROM:-0800
TZOFFSETTO:-0700
END:DAYLIGHT
END:VTIMEZONE
BEGIN:VEVENT
DESCRIPTION:2025 Annual Meeting by the American Academy of Neurology\n\nTi
 tle: UTSW Department of Neurology Alumni Event \n\nDescription: Cocktail 
 social hour with Faculty Alumni to include heavy and passed hors d’oeuvre
 s\, and drinks. Wait staff to include a bartender and 2 wait staff to set
  up\, pass appetizers and tear down.\n\nLearn More About This Event: http
 s://www.aan.com/MSA/Public/Events/Details/18197
DTEND;TZID=Pacific Standard Time:20250408T203000
DTSTAMP:20260421T081152Z
DTSTART;TZID=Pacific Standard Time:20250408T180000
LOCATION:https://www.aan.com/MSA/Public/Events/GetEventURL/18197
SEQUENCE:0
SUMMARY:AAN: UTSW Department of Neurology Alumni Event
UID:4707b1f3-9bef-458b-9fc6-2ed82d702ad3
END:VEVENT
END:VCALENDAR
