BEGIN:VCALENDAR
PRODID:-//github.com/rianjs/ical.net//NONSGML ical.net 4.0//EN
VERSION:2.0
BEGIN:VTIMEZONE
TZID:Pacific Standard Time
X-LIC-LOCATION:America/Los_Angeles
BEGIN:STANDARD
DTSTART:20241103T020000
RRULE:FREQ=YEARLY;BYDAY=1SU;BYMONTH=11
TZNAME:PST
TZOFFSETFROM:-0700
TZOFFSETTO:-0800
END:STANDARD
BEGIN:DAYLIGHT
DTSTART:20250309T020000
RRULE:FREQ=YEARLY;BYDAY=2SU;BYMONTH=3
TZNAME:PDT
TZOFFSETFROM:-0800
TZOFFSETTO:-0700
END:DAYLIGHT
END:VTIMEZONE
BEGIN:VEVENT
DESCRIPTION:2025 Annual Meeting by the American Academy of Neurology\n\nTi
 tle: How to Choose Where to Apply to Residency (Trainee Hub)\n\nAccess UR
 L: https://www.aan.com/MSA/Public/Events/GetEventURL/18210\n\nLearn More 
 About This Event: https://www.aan.com/MSA/Public/Events/Details/18210
DTEND;TZID=Pacific Standard Time:20250405T140000
DTSTAMP:20260421T080944Z
DTSTART;TZID=Pacific Standard Time:20250405T133000
LOCATION:https://www.aan.com/MSA/Public/Events/GetEventURL/18210
SEQUENCE:0
SUMMARY:AAN: How to Choose Where to Apply to Residency (Trainee Hub)
UID:bcb8eadd-980e-4357-88bc-4fec2008eb66
END:VEVENT
END:VCALENDAR
