BEGIN:VCALENDAR
PRODID:-//github.com/rianjs/ical.net//NONSGML ical.net 4.0//EN
VERSION:2.0
BEGIN:VTIMEZONE
TZID:Pacific Standard Time
X-LIC-LOCATION:America/Los_Angeles
BEGIN:STANDARD
DTSTART:20241103T020000
RRULE:FREQ=YEARLY;BYDAY=1SU;BYMONTH=11
TZNAME:PST
TZOFFSETFROM:-0700
TZOFFSETTO:-0800
END:STANDARD
BEGIN:DAYLIGHT
DTSTART:20250309T020000
RRULE:FREQ=YEARLY;BYDAY=2SU;BYMONTH=3
TZNAME:PDT
TZOFFSETFROM:-0800
TZOFFSETTO:-0700
END:DAYLIGHT
END:VTIMEZONE
BEGIN:VEVENT
DESCRIPTION:2025 Annual Meeting by the American Academy of Neurology\n\nTi
 tle: Serving the Underserved: Engaging in Rural and Global Health as a Tr
 ainee (Trainee Hub)\n\nAccess URL: https://www.aan.com/MSA/Public/Events/
 GetEventURL/18212\n\nLearn More About This Event: https://www.aan.com/MSA
 /Public/Events/Details/18212
DTEND;TZID=Pacific Standard Time:20250405T154500
DTSTAMP:20260421T081440Z
DTSTART;TZID=Pacific Standard Time:20250405T150000
LOCATION:https://www.aan.com/MSA/Public/Events/GetEventURL/18212
SEQUENCE:0
SUMMARY:AAN: Serving the Underserved: Engaging in Rural and Global Health 
 as a Trainee (Trainee Hub)
UID:15dc1675-ccd3-4d5a-be78-0e29423e4f43
END:VEVENT
END:VCALENDAR
