BEGIN:VCALENDAR
PRODID:-//github.com/rianjs/ical.net//NONSGML ical.net 4.0//EN
VERSION:2.0
BEGIN:VTIMEZONE
TZID:Pacific Standard Time
X-LIC-LOCATION:America/Los_Angeles
BEGIN:STANDARD
DTSTART:20241103T020000
RRULE:FREQ=YEARLY;BYDAY=1SU;BYMONTH=11
TZNAME:PST
TZOFFSETFROM:-0700
TZOFFSETTO:-0800
END:STANDARD
BEGIN:DAYLIGHT
DTSTART:20250309T020000
RRULE:FREQ=YEARLY;BYDAY=2SU;BYMONTH=3
TZNAME:PDT
TZOFFSETFROM:-0800
TZOFFSETTO:-0700
END:DAYLIGHT
END:VTIMEZONE
BEGIN:VEVENT
DESCRIPTION:2025 Annual Meeting by the American Academy of Neurology\n\nTi
 tle: Burning Questions: Choosing a Neurology Fellowship (Hot Ones Style!)
  (Trainee Hub)\n\nAccess URL: https://www.aan.com/MSA/Public/Events/GetEv
 entURL/18229\n\nLearn More About This Event: https://www.aan.com/MSA/Publ
 ic/Events/Details/18229
DTEND;TZID=Pacific Standard Time:20250406T084500
DTSTAMP:20260421T082612Z
DTSTART;TZID=Pacific Standard Time:20250406T080000
LOCATION:https://www.aan.com/MSA/Public/Events/GetEventURL/18229
SEQUENCE:0
SUMMARY:AAN: Burning Questions: Choosing a Neurology Fellowship (Hot Ones 
 Style!) (Trainee Hub)
UID:ac34ed79-e43d-4233-b8c4-173781d97c4d
END:VEVENT
END:VCALENDAR
